BEGIN:VCALENDAR
VERSION:2.0
PRODID:-//RIGHTHERE//CALENDARIZE IT V3.2//EN
BEGIN:VTIMEZONE
TZID:America/Los_Angeles
X-MICROSOFT-CDO-TZID:13
BEGIN:STANDARD
DTSTART:20251102T090000
TZOFFSETFROM:-0700
TZOFFSETTO:-0800
TZNAME:PST
END:STANDARD
BEGIN:DAYLIGHT
DTSTART:20260308T100000
TZOFFSETFROM:-0800
TZOFFSETTO:-0700
TZNAME:PDT
END:DAYLIGHT
BEGIN:STANDARD
DTSTART:20261101T090000
TZOFFSETFROM:-0700
TZOFFSETTO:-0800
TZNAME:PST
END:STANDARD
END:VTIMEZONE
BEGIN:VEVENT
UID:27401-events@vansd.org
DTSTART;TZID=America/Los_Angeles:20160909T130000
DTEND;TZID=America/Los_Angeles:20160909T143000
DTSTAMP;TZID=America/Los_Angeles:20160907T093219
SUMMARY:1-2-3 Grow & Learn: Harney
RRULE:FREQ=WEEKLY;INTERVAL=1;UNTIL=20170617
EXDATE:20161014T200000Z,20161021T200000Z,20161111T200000Z,20161125T200000Z,
 20161209T200000Z,20161216T200000Z,20161223T200000Z,20161230T200000Z,201701
 13T200000Z,20170407T200000Z,20170421T200000Z
URL:https://vansd.org/events/1-2-3-grow-learn-harney/
LOCATION:3212 East Evergreen Boulevard\, Vancouver\, WA 98661
END:VEVENT
END:VCALENDAR