BEGIN:VCALENDAR
VERSION:2.0
PRODID:-//RIGHTHERE//CALENDARIZE IT V3.2//EN
BEGIN:VTIMEZONE
TZID:America/Los_Angeles
X-MICROSOFT-CDO-TZID:13
BEGIN:STANDARD
DTSTART:20251102T090000
TZOFFSETFROM:-0700
TZOFFSETTO:-0800
TZNAME:PST
END:STANDARD
BEGIN:DAYLIGHT
DTSTART:20260308T100000
TZOFFSETFROM:-0800
TZOFFSETTO:-0700
TZNAME:PDT
END:DAYLIGHT
BEGIN:STANDARD
DTSTART:20261101T090000
TZOFFSETFROM:-0700
TZOFFSETTO:-0800
TZNAME:PST
END:STANDARD
END:VTIMEZONE
BEGIN:VEVENT
UID:30047-events@vansd.org
DTSTART;VALUE=DATE:20161216
DTEND;VALUE=DATE:20161216
DTSTAMP;TZID=America/Los_Angeles:20161215T170646
SUMMARY:Weather alert for Friday\, Dec. 16: ALL SCHOOLS CLOSED
URL:https://vansd.org/events/weather-alert-for-friday-dec-16-all-schools-cl
 osed/
END:VEVENT
END:VCALENDAR