BEGIN:VCALENDAR
VERSION:2.0
PRODID:-//RIGHTHERE//CALENDARIZE IT V3.2//EN
BEGIN:VTIMEZONE
TZID:America/Los_Angeles
X-MICROSOFT-CDO-TZID:13
BEGIN:STANDARD
DTSTART:20251102T090000
TZOFFSETFROM:-0700
TZOFFSETTO:-0800
TZNAME:PST
END:STANDARD
BEGIN:DAYLIGHT
DTSTART:20260308T100000
TZOFFSETFROM:-0800
TZOFFSETTO:-0700
TZNAME:PDT
END:DAYLIGHT
BEGIN:STANDARD
DTSTART:20261101T090000
TZOFFSETFROM:-0700
TZOFFSETTO:-0800
TZNAME:PST
END:STANDARD
END:VTIMEZONE
BEGIN:VEVENT
UID:31279-events@vansd.org
DTSTART;TZID=America/Los_Angeles:20170304T120000
DTEND;TZID=America/Los_Angeles:20170304T220000
DTSTAMP;TZID=America/Los_Angeles:20170227T133638
SUMMARY:Traditional Powwow
URL:https://vansd.org/events/2017-traditional-powwow/
LOCATION:7825 NE 130th Ave.\, Vancouver\, WA 98682
END:VEVENT
END:VCALENDAR