BEGIN:VCALENDAR
VERSION:2.0
PRODID:-//RIGHTHERE//CALENDARIZE IT V3.2//EN
BEGIN:VTIMEZONE
TZID:America/Los_Angeles
X-MICROSOFT-CDO-TZID:13
BEGIN:STANDARD
DTSTART:20251102T090000
TZOFFSETFROM:-0700
TZOFFSETTO:-0800
TZNAME:PST
END:STANDARD
BEGIN:DAYLIGHT
DTSTART:20260308T100000
TZOFFSETFROM:-0800
TZOFFSETTO:-0700
TZNAME:PDT
END:DAYLIGHT
BEGIN:STANDARD
DTSTART:20261101T090000
TZOFFSETFROM:-0700
TZOFFSETTO:-0800
TZNAME:PST
END:STANDARD
END:VTIMEZONE
BEGIN:VEVENT
UID:32364-events@vansd.org
DTSTART;TZID=America/Los_Angeles:20170826T120000
DTEND;TZID=America/Los_Angeles:20170826T154500
DTSTAMP;TZID=America/Los_Angeles:20170426T140518
SUMMARY:Sports physicals at Free Clinic of SW WA
URL:https://vansd.org/events/sports-physicals-at-free-clinic-of-sw-wa/
LOCATION:Free Clinic of Southwest Washington
END:VEVENT
END:VCALENDAR