BEGIN:VCALENDAR
VERSION:2.0
PRODID:-//RIGHTHERE//CALENDARIZE IT V3.2//EN
BEGIN:VTIMEZONE
TZID:America/Los_Angeles
X-MICROSOFT-CDO-TZID:13
BEGIN:STANDARD
DTSTART:20251102T090000
TZOFFSETFROM:-0700
TZOFFSETTO:-0800
TZNAME:PST
END:STANDARD
BEGIN:DAYLIGHT
DTSTART:20260308T100000
TZOFFSETFROM:-0800
TZOFFSETTO:-0700
TZNAME:PDT
END:DAYLIGHT
BEGIN:STANDARD
DTSTART:20261101T090000
TZOFFSETFROM:-0700
TZOFFSETTO:-0800
TZNAME:PST
END:STANDARD
END:VTIMEZONE
BEGIN:VEVENT
UID:34037-events@vansd.org
DTSTART;TZID=America/Los_Angeles:20170915T130000
DTEND;TZID=America/Los_Angeles:20170915T143000
DTSTAMP;TZID=America/Los_Angeles:20170731T153049
SUMMARY:1-2-3 Grow and Learn: Harney
RRULE:FREQ=WEEKLY;INTERVAL=1;UNTIL=20180610
EXDATE:20171013T200000Z,20171020T200000Z,20171110T200000Z,20171124T200000Z,
 20171222T200000Z,20171229T200000Z,20180406T200000Z,20180420T200000Z
URL:https://vansd.org/events/1-2-3-grow-and-learn-harney-17-18/
ORGANIZER;CN=Julie Jacobson:
LOCATION:3212 East Evergreen Boulevard\, Vancouver\, WA 98661
END:VEVENT
END:VCALENDAR