BEGIN:VCALENDAR
VERSION:2.0
PRODID:-//RIGHTHERE//CALENDARIZE IT V3.2//EN
BEGIN:VTIMEZONE
TZID:America/Los_Angeles
X-MICROSOFT-CDO-TZID:13
BEGIN:STANDARD
DTSTART:20251102T090000
TZOFFSETFROM:-0700
TZOFFSETTO:-0800
TZNAME:PST
END:STANDARD
BEGIN:DAYLIGHT
DTSTART:20260308T100000
TZOFFSETFROM:-0800
TZOFFSETTO:-0700
TZNAME:PDT
END:DAYLIGHT
BEGIN:STANDARD
DTSTART:20261101T090000
TZOFFSETFROM:-0700
TZOFFSETTO:-0800
TZNAME:PST
END:STANDARD
END:VTIMEZONE
BEGIN:VEVENT
UID:41757-events@vansd.org
DTSTART;VALUE=DATE:20180910
DTEND;VALUE=DATE:20180910
DTSTAMP;TZID=America/Los_Angeles:20180904T143833
SUMMARY:Early Release
RRULE:FREQ=WEEKLY;INTERVAL=1;UNTIL=20190521
EXDATE:20181112,20181224,20181231,20190121,20190218,20190401
URL:https://vansd.org/events/early-release/
END:VEVENT
END:VCALENDAR