BEGIN:VCALENDAR
VERSION:2.0
PRODID:-//RIGHTHERE//CALENDARIZE IT V3.2//EN
BEGIN:VTIMEZONE
TZID:America/Los_Angeles
X-MICROSOFT-CDO-TZID:13
BEGIN:STANDARD
DTSTART:20251102T090000
TZOFFSETFROM:-0700
TZOFFSETTO:-0800
TZNAME:PST
END:STANDARD
BEGIN:DAYLIGHT
DTSTART:20260308T100000
TZOFFSETFROM:-0800
TZOFFSETTO:-0700
TZNAME:PDT
END:DAYLIGHT
BEGIN:STANDARD
DTSTART:20261101T090000
TZOFFSETFROM:-0700
TZOFFSETTO:-0800
TZNAME:PST
END:STANDARD
END:VTIMEZONE
BEGIN:VEVENT
UID:42379-events@vansd.org
DTSTART;VALUE=DATE:20181017
DTEND;VALUE=DATE:20181017
DTSTAMP;TZID=America/Los_Angeles:20181012T153913
SUMMARY:Middle school progress notices in buildings for distribution
URL:https://vansd.org/events/middle-school-progress-notices-in-buildings-fo
 r-distribution-october-2018/
END:VEVENT
END:VCALENDAR