BEGIN:VCALENDAR
VERSION:2.0
PRODID:-//RIGHTHERE//CALENDARIZE IT V3.2//EN
BEGIN:VTIMEZONE
TZID:America/Los_Angeles
X-MICROSOFT-CDO-TZID:13
BEGIN:STANDARD
DTSTART:20251102T090000
TZOFFSETFROM:-0700
TZOFFSETTO:-0800
TZNAME:PST
END:STANDARD
BEGIN:DAYLIGHT
DTSTART:20260308T100000
TZOFFSETFROM:-0800
TZOFFSETTO:-0700
TZNAME:PDT
END:DAYLIGHT
BEGIN:STANDARD
DTSTART:20261101T090000
TZOFFSETFROM:-0700
TZOFFSETTO:-0800
TZNAME:PST
END:STANDARD
END:VTIMEZONE
BEGIN:VEVENT
UID:54128-events@vansd.org
DTSTART;TZID=America/Los_Angeles:20200128T183000
DTEND;TZID=America/Los_Angeles:20200128T193000
DTSTAMP;TZID=America/Los_Angeles:20191024T150301
SUMMARY:iTech open house 2020 at Skyview High School
RRULE:FREQ=DAILY;INTERVAL=1;UNTIL=20200219
EXDATE:20200130T013000Z,20200131T013000Z,20200201T013000Z,20200202T013000Z,
 20200203T013000Z,20200204T013000Z,20200205T013000Z,20200206T013000Z,202002
 07T013000Z,20200208T013000Z,20200209T013000Z,20200210T013000Z,20200211T013
 000Z,20200212T013000Z,20200213T013000Z,20200214T013000Z,20200215T013000Z,2
 0200216T013000Z,20200217T013000Z,20200218T013000Z,20200220T013000Z
URL:https://vansd.org/events/itech-open-house-2020-at-skyview-high-school/
LOCATION:Skyview High School
END:VEVENT
END:VCALENDAR