BEGIN:VCALENDAR
VERSION:2.0
PRODID:-//RIGHTHERE//CALENDARIZE IT V3.2//EN
BEGIN:VTIMEZONE
TZID:America/Los_Angeles
X-MICROSOFT-CDO-TZID:13
BEGIN:STANDARD
DTSTART:20251102T090000
TZOFFSETFROM:-0700
TZOFFSETTO:-0800
TZNAME:PST
END:STANDARD
BEGIN:DAYLIGHT
DTSTART:20260308T100000
TZOFFSETFROM:-0800
TZOFFSETTO:-0700
TZNAME:PDT
END:DAYLIGHT
BEGIN:STANDARD
DTSTART:20261101T090000
TZOFFSETFROM:-0700
TZOFFSETTO:-0800
TZNAME:PST
END:STANDARD
END:VTIMEZONE
BEGIN:VEVENT
UID:55512-events@vansd.org
DTSTART;TZID=America/Los_Angeles:20191219T190000
DTEND;TZID=America/Los_Angeles:20191219T200000
DTSTAMP;TZID=America/Los_Angeles:20191125T142857
SUMMARY:Game Time Broadcast: Skyview vs. Hudson’s Bay (Girl’s Basketbal
 l)
URL:https://vansd.org/events/game-time-broadcast-skyview-vs-hudsons-bay-gir
 ls-basketball/
LOCATION:1601 E McLoughlin Blvd Vancouver WA 98663
END:VEVENT
END:VCALENDAR