BEGIN:VCALENDAR
VERSION:2.0
PRODID:-//RIGHTHERE//CALENDARIZE IT V3.2//EN
BEGIN:VTIMEZONE
TZID:America/Los_Angeles
X-MICROSOFT-CDO-TZID:13
BEGIN:STANDARD
DTSTART:20251102T090000
TZOFFSETFROM:-0700
TZOFFSETTO:-0800
TZNAME:PST
END:STANDARD
BEGIN:DAYLIGHT
DTSTART:20260308T100000
TZOFFSETFROM:-0800
TZOFFSETTO:-0700
TZNAME:PDT
END:DAYLIGHT
BEGIN:STANDARD
DTSTART:20261101T090000
TZOFFSETFROM:-0700
TZOFFSETTO:-0800
TZNAME:PST
END:STANDARD
END:VTIMEZONE
BEGIN:VEVENT
UID:55516-events@vansd.org
DTSTART;TZID=America/Los_Angeles:20200110T190000
DTEND;TZID=America/Los_Angeles:20200110T200000
DTSTAMP;TZID=America/Los_Angeles:20191125T143035
SUMMARY:Game Time Broadcast: Hudson’s Bay vs. Fort Vancouver (Boy’s Bas
 ketball)
URL:https://vansd.org/events/game-time-broadcast-hudsons-bay-vs-fort-vancou
 ver-boys-basketball/
LOCATION:5700 E 18th St\, Vancouver\, WA 98661
END:VEVENT
END:VCALENDAR