BEGIN:VCALENDAR
VERSION:2.0
PRODID:-//RIGHTHERE//CALENDARIZE IT V3.2//EN
BEGIN:VTIMEZONE
TZID:America/Los_Angeles
X-MICROSOFT-CDO-TZID:13
BEGIN:STANDARD
DTSTART:20251102T090000
TZOFFSETFROM:-0700
TZOFFSETTO:-0800
TZNAME:PST
END:STANDARD
BEGIN:DAYLIGHT
DTSTART:20260308T100000
TZOFFSETFROM:-0800
TZOFFSETTO:-0700
TZNAME:PDT
END:DAYLIGHT
BEGIN:STANDARD
DTSTART:20261101T090000
TZOFFSETFROM:-0700
TZOFFSETTO:-0800
TZNAME:PST
END:STANDARD
END:VTIMEZONE
BEGIN:VEVENT
UID:72336-events@vansd.org
DTSTART;TZID=America/Los_Angeles:20220118T180000
DTEND;TZID=America/Los_Angeles:20220118T190000
DTSTAMP;TZID=America/Los_Angeles:20211209T121922
SUMMARY:Vancouver Flex Academy open house 2022
RDATE;TZID=America/Los_Angeles;VALUE=PERIOD:20220127T180000/20220127T190000
URL:https://vansd.org/events/vancouver-flex-academy-open-house-2022/
LOCATION:2901 General Anderson Ave\, Vancouver WA 98661
END:VEVENT
END:VCALENDAR