BEGIN:VCALENDAR
VERSION:2.0
PRODID:-//RIGHTHERE//CALENDARIZE IT V3.2//EN
BEGIN:VTIMEZONE
TZID:America/Los_Angeles
X-MICROSOFT-CDO-TZID:13
BEGIN:STANDARD
DTSTART:20251102T090000
TZOFFSETFROM:-0700
TZOFFSETTO:-0800
TZNAME:PST
END:STANDARD
BEGIN:DAYLIGHT
DTSTART:20260308T100000
TZOFFSETFROM:-0800
TZOFFSETTO:-0700
TZNAME:PDT
END:DAYLIGHT
BEGIN:STANDARD
DTSTART:20261101T090000
TZOFFSETFROM:-0700
TZOFFSETTO:-0800
TZNAME:PST
END:STANDARD
END:VTIMEZONE
BEGIN:VEVENT
UID:80089-events@vansd.org
DTSTART;TZID=America/Los_Angeles:20230125T150000
DTEND;TZID=America/Los_Angeles:20230125T160000
DTSTAMP;TZID=America/Los_Angeles:20230117T093356
SUMMARY:Mandarin Language Learning Program parent information session at Fr
 anklin Elementary
URL:https://vansd.org/events/mandarin-language-learning-program-parent-info
 rmation-session-2023/
LOCATION:5206 Franklin St. Vancouver WA 98663
END:VEVENT
END:VCALENDAR