BEGIN:VCALENDAR
VERSION:2.0
PRODID:-//RIGHTHERE//CALENDARIZE IT V3.2//EN
BEGIN:VTIMEZONE
TZID:America/Los_Angeles
X-MICROSOFT-CDO-TZID:13
BEGIN:STANDARD
DTSTART:20251102T090000
TZOFFSETFROM:-0700
TZOFFSETTO:-0800
TZNAME:PST
END:STANDARD
BEGIN:DAYLIGHT
DTSTART:20260308T100000
TZOFFSETFROM:-0800
TZOFFSETTO:-0700
TZNAME:PDT
END:DAYLIGHT
BEGIN:STANDARD
DTSTART:20261101T090000
TZOFFSETFROM:-0700
TZOFFSETTO:-0800
TZNAME:PST
END:STANDARD
END:VTIMEZONE
BEGIN:VEVENT
UID:80202-events@vansd.org
DTSTART;TZID=America/Los_Angeles:20230303T084500
DTEND;TZID=America/Los_Angeles:20230303T094500
DTSTAMP;TZID=America/Los_Angeles:20230215T085642
SUMMARY:Harney Dual Language Program parent information session | Sesión i
 nformativa para el programa de lenguaje dual en español/inglés: Presenta
 ción en Español.
URL:https://vansd.org/events/harney-dual-language-program-parent-informatio
 n-session-sesion-informativa-para-el-programa-de-lenguaje-dual-en-espanol-
 ingles-presentacion-en-espanol/
LOCATION:3212 East Evergreen Boulevard\, Vancouver\, WA 98661
END:VEVENT
END:VCALENDAR