BEGIN:VCALENDAR
VERSION:2.0
PRODID:-//RIGHTHERE//CALENDARIZE IT V3.2//EN
BEGIN:VTIMEZONE
TZID:America/Los_Angeles
X-MICROSOFT-CDO-TZID:13
BEGIN:STANDARD
DTSTART:20251102T090000
TZOFFSETFROM:-0700
TZOFFSETTO:-0800
TZNAME:PST
END:STANDARD
BEGIN:DAYLIGHT
DTSTART:20260308T100000
TZOFFSETFROM:-0800
TZOFFSETTO:-0700
TZNAME:PDT
END:DAYLIGHT
BEGIN:STANDARD
DTSTART:20261101T090000
TZOFFSETFROM:-0700
TZOFFSETTO:-0800
TZNAME:PST
END:STANDARD
END:VTIMEZONE
BEGIN:VEVENT
UID:80860-events@vansd.org
DTSTART;TZID=America/Los_Angeles:20230814T090000
DTEND;TZID=America/Los_Angeles:20230814T113000
DTSTAMP;TZID=America/Los_Angeles:20230524T113958
SUMMARY:Kindergarten Jump Start 2023!
RDATE;TZID=America/Los_Angeles;VALUE=PERIOD:20230815T090000/20230815T113000
 ,20230816T090000/20230816T113000,20230817T090000/20230817T113000,20230818T
 090000/20230818T113000
URL:https://vansd.org/events/kindergarten-jump-start-2023/
ORGANIZER;CN=Erynn Torrey:
END:VEVENT
END:VCALENDAR