BEGIN:VCALENDAR
VERSION:2.0
PRODID:-//RIGHTHERE//CALENDARIZE IT V3.2//EN
BEGIN:VTIMEZONE
TZID:America/Los_Angeles
X-MICROSOFT-CDO-TZID:13
BEGIN:STANDARD
DTSTART:20251102T090000
TZOFFSETFROM:-0700
TZOFFSETTO:-0800
TZNAME:PST
END:STANDARD
BEGIN:DAYLIGHT
DTSTART:20260308T100000
TZOFFSETFROM:-0800
TZOFFSETTO:-0700
TZNAME:PDT
END:DAYLIGHT
BEGIN:STANDARD
DTSTART:20261101T090000
TZOFFSETFROM:-0700
TZOFFSETTO:-0800
TZNAME:PST
END:STANDARD
END:VTIMEZONE
BEGIN:VEVENT
UID:81922-events@vansd.org
DTSTART;TZID=America/Los_Angeles:20240416T170000
DTEND;TZID=America/Los_Angeles:20240416T180000
DTSTAMP;TZID=America/Los_Angeles:20231205T141511
SUMMARY:Vancouver Innovation\, Technology and Arts Elementary (VITA) open h
 ouse 2024
URL:https://vansd.org/events/vancouver-innovation-technology-and-arts-eleme
 ntary-vita-open-house-2024-2/
LOCATION:1111 Fort Vancouver Way\, Vancouver\, WA 98663
END:VEVENT
END:VCALENDAR