BEGIN:VCALENDAR
VERSION:2.0
PRODID:-//RIGHTHERE//CALENDARIZE IT V3.2//EN
BEGIN:VTIMEZONE
TZID:America/Los_Angeles
X-MICROSOFT-CDO-TZID:13
BEGIN:STANDARD
DTSTART:20251102T090000
TZOFFSETFROM:-0700
TZOFFSETTO:-0800
TZNAME:PST
END:STANDARD
BEGIN:DAYLIGHT
DTSTART:20260308T100000
TZOFFSETFROM:-0800
TZOFFSETTO:-0700
TZNAME:PDT
END:DAYLIGHT
BEGIN:STANDARD
DTSTART:20261101T090000
TZOFFSETFROM:-0700
TZOFFSETTO:-0800
TZNAME:PST
END:STANDARD
END:VTIMEZONE
BEGIN:VEVENT
UID:84373-events@vansd.org
DTSTART;TZID=America/Los_Angeles:20250429T080000
DTEND;TZID=America/Los_Angeles:20250429T180000
DTSTAMP;TZID=America/Los_Angeles:20250328T085604
SUMMARY:Hudson’s Bay High School plant sale 2025
RDATE;TZID=America/Los_Angeles;VALUE=PERIOD:20250430T080000/20250430T180000
 ,20250501T080000/20250501T180000
URL:https://vansd.org/events/hudsons-bay-high-school-plant-sale-2025/
LOCATION:1601 E McLoughlin Blvd Vancouver WA 98663
END:VEVENT
END:VCALENDAR