BEGIN:VCALENDAR
VERSION:2.0
PRODID:-//RIGHTHERE//CALENDARIZE IT V3.2//EN
BEGIN:VTIMEZONE
TZID:America/Los_Angeles
X-MICROSOFT-CDO-TZID:13
BEGIN:STANDARD
DTSTART:20251102T090000
TZOFFSETFROM:-0700
TZOFFSETTO:-0800
TZNAME:PST
END:STANDARD
BEGIN:DAYLIGHT
DTSTART:20260308T100000
TZOFFSETFROM:-0800
TZOFFSETTO:-0700
TZNAME:PDT
END:DAYLIGHT
BEGIN:STANDARD
DTSTART:20261101T090000
TZOFFSETFROM:-0700
TZOFFSETTO:-0800
TZNAME:PST
END:STANDARD
END:VTIMEZONE
BEGIN:VEVENT
UID:84643-events@vansd.org
DTSTART;TZID=America/Los_Angeles:20250815T090000
DTEND;TZID=America/Los_Angeles:20250815T140000
DTSTAMP;TZID=America/Los_Angeles:20250804T104522
SUMMARY:School Registration Welcome  |  Inscripción Escolar  |  Центр
 Регистрации  |  Rechister ngeni ekkewe sukkun
RDATE;TZID=America/Los_Angeles;VALUE=PERIOD:20250822T090000/20250822T140000
URL:https://vansd.org/events/school-registration-welcome-inscripcion-escola
 r-%d1%86%d0%b5%d0%bd%d1%82%d1%80-%d1%80%d0%b5%d0%b3%d0%b8%d1%81%d1%82%d1%8
 0%d0%b0%d1%86%d0%b8%d0%b8-rechister-ngeni-ekkewe-sukkun-2/
LOCATION:2921 Falk Road Vancouver WA 98661
END:VEVENT
END:VCALENDAR