BEGIN:VCALENDAR
VERSION:2.0
PRODID:-//RIGHTHERE//CALENDARIZE IT V3.2//EN
BEGIN:VTIMEZONE
TZID:America/Los_Angeles
X-MICROSOFT-CDO-TZID:13
BEGIN:STANDARD
DTSTART:20251102T090000
TZOFFSETFROM:-0700
TZOFFSETTO:-0800
TZNAME:PST
END:STANDARD
BEGIN:DAYLIGHT
DTSTART:20260308T100000
TZOFFSETFROM:-0800
TZOFFSETTO:-0700
TZNAME:PDT
END:DAYLIGHT
BEGIN:STANDARD
DTSTART:20261101T090000
TZOFFSETFROM:-0700
TZOFFSETTO:-0800
TZNAME:PST
END:STANDARD
END:VTIMEZONE
BEGIN:VEVENT
UID:85021-events@vansd.org
DTSTART;TZID=America/Los_Angeles:20250912T200000
DTEND;TZID=America/Los_Angeles:20250912T220000
DTSTAMP;TZID=America/Los_Angeles:20250905T131824
SUMMARY:VPS Game Time Broadcast: Hudson’s Bay vs Heritage (football)
URL:https://vansd.org/events/vps-game-time-broadcast-hudsons-bay-vs-heritag
 e-football/
LOCATION:Kiggins Bowl
END:VEVENT
END:VCALENDAR