BEGIN:VCALENDAR
VERSION:2.0
PRODID:-//RIGHTHERE//CALENDARIZE IT V3.2//EN
BEGIN:VTIMEZONE
TZID:America/Los_Angeles
X-MICROSOFT-CDO-TZID:13
BEGIN:STANDARD
DTSTART:20251102T090000
TZOFFSETFROM:-0700
TZOFFSETTO:-0800
TZNAME:PST
END:STANDARD
BEGIN:DAYLIGHT
DTSTART:20260308T100000
TZOFFSETFROM:-0800
TZOFFSETTO:-0700
TZNAME:PDT
END:DAYLIGHT
BEGIN:STANDARD
DTSTART:20261101T090000
TZOFFSETFROM:-0700
TZOFFSETTO:-0800
TZNAME:PST
END:STANDARD
END:VTIMEZONE
BEGIN:VEVENT
UID:85705-events@vansd.org
DTSTART;TZID=America/Los_Angeles:20260403T082000
DTEND;TZID=America/Los_Angeles:20260403T092000
DTSTAMP;TZID=America/Los_Angeles:20260224T125736
SUMMARY:Edgewood Spanish/English Dual Language Program parent information s
 ession
URL:https://vansd.org/events/edgewood-spanish-english-dual-language-program
 -parent-information-session-3/
LOCATION:3212 East Evergreen Boulevard\, Vancouver\, WA 98661
END:VEVENT
END:VCALENDAR